BEGIN:VCALENDAR
VERSION:2.0
PRODID:-//Hendaye - ECPv4.9.10//NONSGML v1.0//EN
CALSCALE:GREGORIAN
METHOD:PUBLISH
X-WR-CALNAME:Hendaye
X-ORIGINAL-URL:https://www.hendaye.fr
X-WR-CALDESC:Events for Hendaye
BEGIN:VTIMEZONE
TZID:Europe/Paris
BEGIN:DAYLIGHT
TZOFFSETFROM:+0100
TZOFFSETTO:+0200
TZNAME:CEST
DTSTART:20260329T010000
END:DAYLIGHT
BEGIN:STANDARD
TZOFFSETFROM:+0200
TZOFFSETTO:+0100
TZNAME:CET
DTSTART:20261025T010000
END:STANDARD
END:VTIMEZONE
BEGIN:VEVENT
DTSTART;TZID=Europe/Paris:20260425T100000
DTEND;TZID=Europe/Paris:20260425T120000
DTSTAMP:20260422T162144
CREATED:20260422T041529Z
LAST-MODIFIED:20260422T041530Z
UID:148097-1777111200-1777118400@www.hendaye.fr
SUMMARY:Abbadia gazteluaren "prestigiozko" bisita
DESCRIPTION:Erreserba derrigorrezkoa da.  \nOntziratu zaitez XIX. menderako bidaia bat egitera ia bi orduz\, prestigiozko bisitan.  \nOraingo honetan\, joan zaitez Antoine d’Abbadieren lorategi botaniko eta zientifikoa ezagutzera\, baita jendearentzat itxita egon ohi diren gelak ezagutzera ere: sukaldeak\, jaunaren gela (zaharberritu berria).  \nAntoine d’Abbadiek ez du sekreturik izango zuretzat!  \nAtsedenaldi goxo bat\, artxiboko irakurketa baten inguruan ere aurreikusita dago epe erdira.  \nGazteluko harrerara 15 minutu lehenago azaltzea komeni da. Berandu iristen bazarete\, ezin izanen da bisitarekin bat egin.  \nMugikortasun urriko pertsonek\, kotxea gazteluan bertan aparkatzen ahalko dute.  \nHIZKUNTZA: FRANTSESA \nBanatu Cliquez pour partager sur Facebook(ouvre dans une nouvelle fenêtre)Cliquez pour partager sur Twitter(ouvre dans une nouvelle fenêtre)Cliquer pour imprimer(ouvre dans une nouvelle fenêtre)
URL:https://www.hendaye.fr/eu/evenements/abbadia-gazteluaren-prestigiozko-bisita/
CATEGORIES:Bisitak,Ondarearen balorizazioa
ATTACH;FMTTYPE=image/jpeg:https://www.hendaye.fr/wp-content/uploads/2026/03/15-Hendaye-Tourisme-1.jpg
END:VEVENT
END:VCALENDAR