BEGIN:VCALENDAR
VERSION:2.0
PRODID:-//Hendaye - ECPv4.9.10//NONSGML v1.0//EN
CALSCALE:GREGORIAN
METHOD:PUBLISH
X-WR-CALNAME:Hendaye
X-ORIGINAL-URL:https://www.hendaye.fr
X-WR-CALDESC:Events for Hendaye
BEGIN:VTIMEZONE
TZID:Europe/Paris
BEGIN:DAYLIGHT
TZOFFSETFROM:+0100
TZOFFSETTO:+0200
TZNAME:CEST
DTSTART:20260329T010000
END:DAYLIGHT
BEGIN:STANDARD
TZOFFSETFROM:+0200
TZOFFSETTO:+0100
TZNAME:CET
DTSTART:20261025T010000
END:STANDARD
END:VTIMEZONE
BEGIN:VEVENT
DTSTART;TZID=Europe/Paris:20260528T103000
DTEND;TZID=Europe/Paris:20260528T235959
DTSTAMP:20260422T090134
CREATED:20260422T041007Z
LAST-MODIFIED:20260422T041007Z
UID:147327-1779964200-1780012799@www.hendaye.fr
SUMMARY:Bisita gidatua - hondartza
DESCRIPTION:Erreserba derrigorrezkoa da.  \nBi bikiak zure atzean\, Espainia aurrean\, ozeanoa bistatik galduta… Hendaian paseo bat emateko panorama paregabea!  \nHiriaren ondare naturala eta arkitektura balnearioa ezagutzeko aukera paregabea\, Edmond Durandeauren “Neo-basque” estiloko etxeekin.  \nFrantzia eta Espainiaren arteko historia gorabeheratsua ere gogoraraziko dizu bisita honek.  \nHIZKUNTZA: FRANTSESA \nBanatu Cliquez pour partager sur Facebook(ouvre dans une nouvelle fenêtre)Cliquez pour partager sur Twitter(ouvre dans une nouvelle fenêtre)Cliquer pour imprimer(ouvre dans une nouvelle fenêtre)
URL:https://www.hendaye.fr/eu/evenements/bisita-gidatua-hondartza-6/
CATEGORIES:Bisitak,Ondarearen balorizazioa
ATTACH;FMTTYPE=image/jpeg:https://www.hendaye.fr/wp-content/uploads/2026/04/Visite-commentee-Quartier-Plage-Hendaye-Tourisme.jpg
END:VEVENT
END:VCALENDAR