BEGIN:VCALENDAR
VERSION:2.0
PRODID:-//Hendaye - ECPv4.9.10//NONSGML v1.0//EN
CALSCALE:GREGORIAN
METHOD:PUBLISH
X-WR-CALNAME:Hendaye
X-ORIGINAL-URL:https://www.hendaye.fr
X-WR-CALDESC:Events for Hendaye
BEGIN:VTIMEZONE
TZID:Europe/Paris
BEGIN:DAYLIGHT
TZOFFSETFROM:+0100
TZOFFSETTO:+0200
TZNAME:CEST
DTSTART:20260329T010000
END:DAYLIGHT
BEGIN:STANDARD
TZOFFSETFROM:+0200
TZOFFSETTO:+0100
TZNAME:CET
DTSTART:20261025T010000
END:STANDARD
END:VTIMEZONE
BEGIN:VEVENT
DTSTART;TZID=Europe/Paris:20260730T213000
DTEND;TZID=Europe/Paris:20260730T000000
DTSTAMP:20260420T083947
CREATED:20260420T040009Z
LAST-MODIFIED:20260420T040009Z
UID:145847-1785447000-1785369600@www.hendaye.fr
SUMMARY:Soirée "mousse"
DESCRIPTION:Banatu Cliquez pour partager sur Facebook(ouvre dans une nouvelle fenêtre)Cliquez pour partager sur Twitter(ouvre dans une nouvelle fenêtre)Cliquer pour imprimer(ouvre dans une nouvelle fenêtre)
URL:https://www.hendaye.fr/eu/evenements/soiree-mousse-7/
CATEGORIES:Giroa
ATTACH;FMTTYPE=image/jpeg:https://www.hendaye.fr/wp-content/uploads/2026/03/Mousse.jpg
END:VEVENT
END:VCALENDAR