BEGIN:VCALENDAR
VERSION:2.0
PRODID:-//Hendaye - ECPv4.9.10//NONSGML v1.0//EN
CALSCALE:GREGORIAN
METHOD:PUBLISH
X-WR-CALNAME:Hendaye
X-ORIGINAL-URL:https://www.hendaye.fr
X-WR-CALDESC:Évènements pour Hendaye
BEGIN:VTIMEZONE
TZID:Europe/Paris
BEGIN:DAYLIGHT
TZOFFSETFROM:+0100
TZOFFSETTO:+0200
TZNAME:CEST
DTSTART:20260329T010000
END:DAYLIGHT
BEGIN:STANDARD
TZOFFSETFROM:+0200
TZOFFSETTO:+0100
TZNAME:CET
DTSTART:20261025T010000
END:STANDARD
END:VTIMEZONE
BEGIN:VEVENT
DTSTART;TZID=Europe/Paris:20260528T183000
DTEND;TZID=Europe/Paris:20260528T235959
DTSTAMP:20260422T035057
CREATED:20260422T032517Z
LAST-MODIFIED:20260422T032517Z
UID:151429-1779993000-1780012799@www.hendaye.fr
SUMMARY:Atelier apéro - Peinture intuitive
DESCRIPTION:Caricature en direct \nPartager Cliquez pour partager sur Facebook(ouvre dans une nouvelle fenêtre)Cliquez pour partager sur Twitter(ouvre dans une nouvelle fenêtre)Cliquer pour imprimer(ouvre dans une nouvelle fenêtre)
URL:https://www.hendaye.fr/fr/evenements/atelier-apero-peinture-intuitive-2/
CATEGORIES:Animations locales,Atelier/Stage
ATTACH;FMTTYPE=image/png:https://www.hendaye.fr/wp-content/uploads/2026/04/6-10.png
END:VEVENT
END:VCALENDAR