BEGIN:VCALENDAR
VERSION:2.0
PRODID:-//Hendaye - ECPv4.9.10//NONSGML v1.0//EN
CALSCALE:GREGORIAN
METHOD:PUBLISH
X-WR-CALNAME:Hendaye
X-ORIGINAL-URL:https://www.hendaye.fr
X-WR-CALDESC:Évènements pour Hendaye
BEGIN:VTIMEZONE
TZID:Europe/Paris
BEGIN:DAYLIGHT
TZOFFSETFROM:+0100
TZOFFSETTO:+0200
TZNAME:CEST
DTSTART:20260329T010000
END:DAYLIGHT
BEGIN:STANDARD
TZOFFSETFROM:+0200
TZOFFSETTO:+0100
TZNAME:CET
DTSTART:20261025T010000
END:STANDARD
END:VTIMEZONE
BEGIN:VEVENT
DTSTART;TZID=Europe/Paris:20260502T190000
DTEND;TZID=Europe/Paris:20260502T003000
DTSTAMP:20260424T184202
CREATED:20260424T041034Z
LAST-MODIFIED:20260424T032510Z
UID:150173-1777748400-1777681800@www.hendaye.fr
SUMMARY:Grand Bal en commémoration du bicentenaire de Eugénie de Montijo et sa présence au Pays Basque
DESCRIPTION:Bal costumé XIXème siècle\, avec parcours gourmand.  \nDans l’élégance des soirées de villégiature d’Eugénie et L’Empereur. \nTenues :\n• Cavalières : Tournure (de préférence)\n• Cavaliers : Frac ou costume militaire du deuxième moitié de XIXème siècle \nRestauration : Un buffet raffiné aux délices du pays. \nPartager Cliquez pour partager sur Facebook(ouvre dans une nouvelle fenêtre)Cliquez pour partager sur Twitter(ouvre dans une nouvelle fenêtre)Cliquer pour imprimer(ouvre dans une nouvelle fenêtre)
URL:https://www.hendaye.fr/fr/evenements/grand-bal-en-commemoration-du-bicentenaire-de-eugenie-de-montijo-et-sa-presence-au-pays-basque/
CATEGORIES:Divertissement,Spectacle
ATTACH;FMTTYPE=image/jpeg:https://www.hendaye.fr/wp-content/uploads/2026/03/Polka-anime-Recadre-1920-1080.jpg
END:VEVENT
END:VCALENDAR