BEGIN:VCALENDAR
VERSION:2.0
PRODID:-//Hendaye - ECPv4.9.10//NONSGML v1.0//EN
CALSCALE:GREGORIAN
METHOD:PUBLISH
X-WR-CALNAME:Hendaye
X-ORIGINAL-URL:https://www.hendaye.fr
X-WR-CALDESC:Évènements pour Hendaye
BEGIN:VTIMEZONE
TZID:Europe/Paris
BEGIN:DAYLIGHT
TZOFFSETFROM:+0100
TZOFFSETTO:+0200
TZNAME:CEST
DTSTART:20260329T010000
END:DAYLIGHT
BEGIN:STANDARD
TZOFFSETFROM:+0200
TZOFFSETTO:+0100
TZNAME:CET
DTSTART:20261025T010000
END:STANDARD
END:VTIMEZONE
BEGIN:VEVENT
DTSTART;TZID=Europe/Paris:20260423T100000
DTEND;TZID=Europe/Paris:20260423T235959
DTSTAMP:20260423T063504
CREATED:20260423T041533Z
LAST-MODIFIED:20260423T031546Z
UID:150255-1776938400-1776988799@www.hendaye.fr
SUMMARY:Semaines des Enfants - Jeu de piste dans la Cité des Mémoires
DESCRIPTION:Animation destinée aux enfants de 7 à 12 ans\, avec un accompagnant de préférence. \nLa Cité des Mémoires – Andaye\, Oroitzapenen Hiria vous embarque de la sorcellerie au XVIIème siècle aux grands conflits du XXème siècle\, en passant par l’architecture néo-basque\, la contrebande\, la gastronomie et\, bien entendu\, la frontière et la douane. \nPartez pour un jeu de piste à travers 9 salles\, qui vous proposeront de nombreux modules interactifs et des collections variées\, avec des copies d’œuvres majeures\, notamment des Goya\, provenant de Versailles\, du Grand Palais à Paris\, de musées madrilène ou londonien… \nUn lieu de visite incontournable pour tous les publics. Emotions garanties ! \nLa présence d’un adulte accompagnant est obligatoire et bénéficie du tarif de 2€.\nA partir du 2ème adulte = tarif normal. \nPartager Cliquez pour partager sur Facebook(ouvre dans une nouvelle fenêtre)Cliquez pour partager sur Twitter(ouvre dans une nouvelle fenêtre)Cliquer pour imprimer(ouvre dans une nouvelle fenêtre)
URL:https://www.hendaye.fr/fr/evenements/semaines-des-enfants-jeu-de-piste-dans-la-cite-des-memoires-2/
CATEGORIES:Animation Jeune Public,Loisir culturel,Visite
ATTACH;FMTTYPE=image/jpeg:https://www.hendaye.fr/wp-content/uploads/2026/03/Cite-des-Memoires-Hendaye-Tourisme-32.jpg
END:VEVENT
END:VCALENDAR