BEGIN:VCALENDAR
VERSION:2.0
PRODID:-//Hendaye - ECPv4.9.10//NONSGML v1.0//EN
CALSCALE:GREGORIAN
METHOD:PUBLISH
X-WR-CALNAME:Hendaye
X-ORIGINAL-URL:https://www.hendaye.fr
X-WR-CALDESC:Évènements pour Hendaye
BEGIN:VTIMEZONE
TZID:Europe/Paris
BEGIN:DAYLIGHT
TZOFFSETFROM:+0100
TZOFFSETTO:+0200
TZNAME:CEST
DTSTART:20260329T010000
END:DAYLIGHT
BEGIN:STANDARD
TZOFFSETFROM:+0200
TZOFFSETTO:+0100
TZNAME:CET
DTSTART:20261025T010000
END:STANDARD
END:VTIMEZONE
BEGIN:VEVENT
DTSTART;TZID=Europe/Paris:20260627T170000
DTEND;TZID=Europe/Paris:20260627T235959
DTSTAMP:20260421T095312
CREATED:20260421T042159Z
LAST-MODIFIED:20260421T032508Z
UID:150604-1782579600-1782604799@www.hendaye.fr
SUMMARY:Visite "Le vieux fort de Hendaye à travers ses vestiges"
DESCRIPTION:Participez à une déambulation sur les vestiges\, puis profitez d’explications géopolitiques sur la construction et sur la garnison. Les démonstrations relatives aux savoir-faire utilisés pour la construction\, effectuées sur la batterie basse\, vous seront présentées. \nLe fort que fait bâtir Louis XIV\, à partir de la tour de défense palissadée élaborée par l’ingénieur Poupard est bien plus modeste que celui qu’avait imaginé l’ingénieur du roy Jacques Alleaume\, lors de sa venue à Hendaye\, en août 1618. Néanmoins\, cette forteresse s’inscrit dans le dessein de grandeur de Louis XIV\, tant pour lui que pour son peuple. La cité de Fontarabie est impressionnée et les Hendayais trouvent une paix relative… \nPartager Cliquez pour partager sur Facebook(ouvre dans une nouvelle fenêtre)Cliquez pour partager sur Twitter(ouvre dans une nouvelle fenêtre)Cliquer pour imprimer(ouvre dans une nouvelle fenêtre)
URL:https://www.hendaye.fr/fr/evenements/visite-le-vieux-fort-de-hendaye-a-travers-ses-vestiges-2/
CATEGORIES:Animation patrimoine,Visite
ATTACH;FMTTYPE=image/jpeg:https://www.hendaye.fr/wp-content/uploads/2026/04/Maquette-et-vestiges-LI-scaled.jpg
END:VEVENT
END:VCALENDAR