BEGIN:VCALENDAR
VERSION:2.0
PRODID:-//Hendaye - ECPv4.9.10//NONSGML v1.0//EN
CALSCALE:GREGORIAN
METHOD:PUBLISH
X-WR-CALNAME:Hendaye
X-ORIGINAL-URL:https://www.hendaye.fr
X-WR-CALDESC:Évènements pour Hendaye
BEGIN:VTIMEZONE
TZID:Europe/Paris
BEGIN:DAYLIGHT
TZOFFSETFROM:+0100
TZOFFSETTO:+0200
TZNAME:CEST
DTSTART:20260329T010000
END:DAYLIGHT
BEGIN:STANDARD
TZOFFSETFROM:+0200
TZOFFSETTO:+0100
TZNAME:CET
DTSTART:20261025T010000
END:STANDARD
END:VTIMEZONE
BEGIN:VEVENT
DTSTART;TZID=Europe/Paris:20261128T100000
DTEND;TZID=Europe/Paris:20261128T120000
DTSTAMP:20260420T071933
CREATED:20260420T040111Z
LAST-MODIFIED:20260420T030607Z
UID:148043-1795860000-1795867200@www.hendaye.fr
SUMMARY:Visite "Prestige" du Château Abbadia
DESCRIPTION:Réservation obligatoire. \nEmbarquez pour un voyage au XIXème siècle durant près de 2 heures\, lors de la Visite Prestige.   \nA cette occasion\, partez à la découverte du jardin botanique et scientifique d’Antoine d’Abbadie ainsi qu’un accès privilégié à des pièces habituellement fermées au public\, comme les cuisines\, ou la chambre de Monsieur\,  fraîchement restaurée.\nUne pause gourmande\, autour d’une lecture d’archive est également prévue à mi-parcours.  \nAntoine d’Abbadie n’aura plus de secrets pour vous !  \nIl est conseillé de se présenter à l’accueil du Château 15 minutes avant. Il ne sera plus possible de rejoindre la visite après son commencement.\nStationnement PMR uniquement dans l’enceinte du Château. \nPartager Cliquez pour partager sur Facebook(ouvre dans une nouvelle fenêtre)Cliquez pour partager sur Twitter(ouvre dans une nouvelle fenêtre)Cliquer pour imprimer(ouvre dans une nouvelle fenêtre)
URL:https://www.hendaye.fr/fr/evenements/visite-prestige-du-chateau-abbadia-9/
CATEGORIES:Animation patrimoine,Loisir culturel,Visite
ATTACH;FMTTYPE=image/jpeg:https://www.hendaye.fr/wp-content/uploads/2026/03/15-Hendaye-Tourisme-1.jpg
END:VEVENT
END:VCALENDAR